BEGIN:VCALENDAR
VERSION:2.0
PRODID:SchoolNow
CALSCALE:GREGORIAN
BEGIN:VEVENT
UID:d34bb9ba-77b2-11f0-99e8-0a58a9feac02
DTSTAMP:20260421T141008Z
SUMMARY:Vernon PTSO
URL;VALUE=URI:https://www.vvsschools.org/calendar/8495310/vernon-ptso
DTSTART:20260507T210000Z
DTEND:20260507T220000Z
END:VEVENT
END:VCALENDAR
