BEGIN:VCALENDAR
VERSION:2.0
PRODID:SchoolNow
CALSCALE:GREGORIAN
BEGIN:VEVENT
UID:716c67d0-576e-11f0-b5d7-0a58a9feac02
DTSTAMP:20260419T072508Z
SUMMARY:Winter Recess-Schools Closed/Offices Open
URL;VALUE=URI:https://www.vvsschools.org/calendar/8378082/winter-recess-sch
 ools-closed-offices-open
DTSTART;VALUE=DATE:20251226
DTEND;VALUE=DATE:20260101
END:VEVENT
END:VCALENDAR
