BEGIN:VCALENDAR
VERSION:2.0
PRODID:SchoolNow
CALSCALE:GREGORIAN
BEGIN:VEVENT
UID:716c5c36-576e-11f0-a4f3-0a58a9feac02
DTSTAMP:20260421T080508Z
SUMMARY:Marking Period 2 Ends
URL;VALUE=URI:https://www.vvsschools.org/calendar/8378069/marking-period-2-
 ends
DTSTART;VALUE=DATE:20260130
DTEND;VALUE=DATE:20260131
END:VEVENT
END:VCALENDAR
