BEGIN:VCALENDAR
VERSION:2.0
PRODID:SchoolNow
CALSCALE:GREGORIAN
BEGIN:VEVENT
UID:716c53f8-576e-11f0-87a4-0a58a9feac02
DTSTAMP:20260421T080508Z
SUMMARY:Regents Exams
URL;VALUE=URI:https://www.vvsschools.org/calendar/8378060/regents-exams
DTSTART;VALUE=DATE:20260120
DTEND;VALUE=DATE:20260124
END:VEVENT
END:VCALENDAR
