BEGIN:VCALENDAR
VERSION:2.0
PRODID:SchoolNow
CALSCALE:GREGORIAN
BEGIN:VEVENT
UID:716c3c6a-576e-11f0-9995-0a58a9feac02
DTSTAMP:20260422T082510Z
SUMMARY:Sherrill Beginner Showcase
URL;VALUE=URI:https://www.vvsschools.org/calendar/8378035/sherrill-beginner
 -showcase
DTSTART:20260513T223000Z
DTEND:20260513T233000Z
END:VEVENT
END:VCALENDAR
