BEGIN:VCALENDAR
VERSION:2.0
PRODID:SchoolNow
CALSCALE:GREGORIAN
BEGIN:VEVENT
UID:716c3b3e-576e-11f0-8550-0a58a9feac02
DTSTAMP:20260422T082510Z
SUMMARY:Vernon Beginner Showcase
URL;VALUE=URI:https://www.vvsschools.org/calendar/8378034/vernon-beginner-s
 howcase
DTSTART:20260512T223000Z
DTEND:20260512T233000Z
END:VEVENT
END:VCALENDAR
