BEGIN:VCALENDAR
VERSION:2.0
PRODID:SchoolNow
CALSCALE:GREGORIAN
BEGIN:VEVENT
UID:716c35c6-576e-11f0-bff9-0a58a9feac02
DTSTAMP:20260421T141008Z
SUMMARY:Verona Beginner Showcase
URL;VALUE=URI:https://www.vvsschools.org/calendar/8378032/verona-beginner-s
 howcase
DTSTART:20260507T223000Z
DTEND:20260507T233000Z
END:VEVENT
END:VCALENDAR
