BEGIN:VCALENDAR
VERSION:2.0
PRODID:SchoolNow
CALSCALE:GREGORIAN
BEGIN:VEVENT
UID:7a93ef30-56a2-11f0-83d0-0afff52fe801
DTSTAMP:20260421T080508Z
SUMMARY:Jr. High Area All State Festival
URL;VALUE=URI:https://www.vvsschools.org/calendar/8374461/jr-high-area-all-
 state-festival
DTSTART;VALUE=DATE:20260130
DTEND;VALUE=DATE:20260201
END:VEVENT
END:VCALENDAR
