BEGIN:VCALENDAR
VERSION:2.0
PRODID:SchoolNow
CALSCALE:GREGORIAN
BEGIN:VEVENT
UID:7a93ec7e-56a2-11f0-a47d-0afff52fe801
DTSTAMP:20260421T080508Z
SUMMARY:All-County Winter Festival
LOCATION:Chittenango
URL;VALUE=URI:https://www.vvsschools.org/calendar/8374460/all-county-winter
 -festival
DTSTART;VALUE=DATE:20260116
DTEND;VALUE=DATE:20260118
END:VEVENT
END:VCALENDAR
