BEGIN:VCALENDAR
VERSION:2.0
PRODID:SchoolNow
CALSCALE:GREGORIAN
BEGIN:VEVENT
UID:a0349f26-3fed-11f0-a4b9-0afffe0089fb
DTSTAMP:20260421T141008Z
SUMMARY:Sherrill PTSO Meeting
URL;VALUE=URI:https://www.vvsschools.org/calendar/8241799/sherrill-ptso-mee
 ting
DTSTART:20260504T213000Z
DTEND:20260504T220000Z
END:VEVENT
END:VCALENDAR
